BEGIN:VCALENDAR
VERSION:2.0
PRODID:-//TCA Hebertshausen - ECPv4.6.23//NONSGML v1.0//EN
CALSCALE:GREGORIAN
METHOD:PUBLISH
X-WR-CALNAME:TCA Hebertshausen
X-ORIGINAL-URL:http://tca-hebertshausen.de
X-WR-CALDESC:Veranstaltungen fÃ¼r TCA Hebertshausen
BEGIN:VEVENT
DTSTART;TZID=UTC+0:20251107T190000
DTEND;TZID=UTC+0:20251107T210000
DTSTAMP:20260425T161116
CREATED:20251028T090645Z
LAST-MODIFIED:20251028T090645Z
UID:1856-1762542000-1762549200@tca-hebertshausen.de
SUMMARY:Jahreshauptversammlung 2025
DESCRIPTION:Jahreshauptversammlung 2025 \nDu bist TCA-Mitglied?\nDann komm vorbei und gestalte deinen Verein.\nJede Stimme zÃ¤hlt!Â \nWir freuen uns auf dich. \nÂ Freitag\, 07. November 2025\nÂ 19:00 Uhr\nÂ Vereinsheim TCA Hebertshausen\, NeufeldstraÃŸe 2 \nÂ Die Tagesordnung kommt allen Mitgliedern spÃ¤testens 3 Wochen im Voraus per Email zu!\nAntrÃ¤ge fÃ¼r diese Mitgliederversammlung kÃ¶nnen bis spÃ¤testens 04. November 2025 schriftlich an die Vorstandschaft eingereicht werden. \n  \nÂ Du hast Fragen oder willst einen Punkt auf die Tagesordnung setzen?\nÂ Wolfgang SchmidÂ (1. Vorsitzender)\nÂ wolfgang.schmid@tca-hebertshausen.de\nÂ 0 81 31 &#8211; 2 63 53 \n
URL:http://tca-hebertshausen.de/event/jahreshauptversammlung-2025-2/
LOCATION:Vereinsheim TCA Hebertshausen\, Neufeldstr. 2\, Hebertshausen\, Bayern\, 85241\, Deutschland
ATTACH;FMTTYPE=image/jpeg:http://tca-hebertshausen.de/wp-content/uploads/2025/10/2025-11-Jahreshauptversammlung-2025.jpg
END:VEVENT
END:VCALENDAR