BEGIN:VCALENDAR
VERSION:2.0
PRODID:-//TCA Hebertshausen - ECPv4.6.23//NONSGML v1.0//EN
CALSCALE:GREGORIAN
METHOD:PUBLISH
X-WR-CALNAME:TCA Hebertshausen
X-ORIGINAL-URL:http://tca-hebertshausen.de
X-WR-CALDESC:Veranstaltungen für TCA Hebertshausen
BEGIN:VEVENT
DTSTART;TZID=UTC+0:20250412T090000
DTEND;TZID=UTC+0:20250412T130000
DTSTAMP:20260425T230814
CREATED:20250415T195012Z
LAST-MODIFIED:20250415T195012Z
UID:1772-1744448400-1744462800@tca-hebertshausen.de
SUMMARY:Arbeitsdienst Frühjahr 2025
DESCRIPTION:Liebe Mitglieder\, \ndie neue Tennissaison naht und es gibt vor dem Start noch einiges zu tun. Wir laden Euch deshalb herzlich dazu ein\, eure Arbeitsumlage durch den Einsatz bei unseren 2 Arbeitstagen abzuleisten. \nDie Arbeitstage finden statt am Samstag 12. April 2025 und Samstag 26. April 2025\, jeweils von 9 bis 13 Uhr. \nWir hoffen auf Eure Unterstützung beim Herrichten unserer Tennisanlage für die neue Saison. \nViele Grüße\nDie Vorstandschaft des TCA sowie unser Platzwart Markus Angermaier \n
URL:http://tca-hebertshausen.de/event/arbeitsdienst-fruehjahr-2025/
LOCATION:Vereinsheim TCA Hebertshausen\, Neufeldstr. 2\, Hebertshausen\, Bayern\, 85241\, Deutschland
ATTACH;FMTTYPE=image/jpeg:http://tca-hebertshausen.de/wp-content/uploads/2025/04/2025-04-Arbeitsdienst-Frühjahr-2025.jpg
END:VEVENT
END:VCALENDAR