BEGIN:VCALENDAR
VERSION:2.0
PRODID:-//TCA Hebertshausen - ECPv4.6.23//NONSGML v1.0//EN
CALSCALE:GREGORIAN
METHOD:PUBLISH
X-WR-CALNAME:TCA Hebertshausen
X-ORIGINAL-URL:http://tca-hebertshausen.de
X-WR-CALDESC:Veranstaltungen fÃ¼r TCA Hebertshausen
BEGIN:VEVENT
DTSTART;TZID=UTC+0:20250329T173000
DTEND;TZID=UTC+0:20250329T200000
DTSTAMP:20260426T003640
CREATED:20250303T124843Z
LAST-MODIFIED:20250303T124843Z
UID:1750-1743269400-1743278400@tca-hebertshausen.de
SUMMARY:Lichterkette fÃ¼r Toleranz\, Frieden und Demokratie
DESCRIPTION:Liebe Mitglieder\, \n  \ndie Gemeinde Hebertshausen\, unterstÃ¼tzt vom â€žDemokratiebÃ¼ndnis im Dachauer Landâ€œ und einer groÃŸen Anzahl Ã¶rtlicher Parteien\, Vereine und Organisationen\, lÃ¤dt fÃ¼r Samstag\, den 29. MÃ¤rz ab 17:30 Uhr Jung und Alt ein\, an einer Lichterkette teilzunehmen. Wir wollen damit fÃ¼r eine solidarische\, tolerante\, friedliche und demokratische Gesellschaft werben. Nach einem abwechslungsreichen und prominenten Programm am Rathausplatz bildet sich die Kette bis zum ca. 800 Meter entfernten\, ehemaligen SS-SchieÃŸplatz. Damit soll an einen Ort erinnert werden\, an dem die Folgen einer undemokratischen\, menschenverachtenden Gesellschaft handgreiflich erfahrbar werden. \nDie Teilnehmer werden gebeten\, eigene Leuchtmittel â€“ Kerzen\, Taschenlampen oder Handylichter â€“ mitzubringen. Angesichts der Erfahrung\, dass heute Demokratie wieder gefÃ¤hrdet ist\, mÃ¶chte die Aktion ein Signal der Zuversicht und der SolidaritÃ¤t ausstrahlen.\nWir bitten Sie herzlich um Ihre UnterstÃ¼tzung. Schenken Sie uns etwas Zeit und lassen Sie die Lichterkette wachsen! Nehmen Sie mit Ihrer Familie\, Freunden und Bekannten teil an dieser einmaligen Veranstaltung und werben Sie dafÃ¼r. \nJede*r ist herzlich Willkommen. FÃ¼r Verpflegung ist gesorgt. Die Veranstaltung findet bei jeder Witterung statt. Umrahmt wird die Veranstaltung von Hans Well\, bekannt von den Well BrÃ¼dern und der A Capella Company aus Dachau. \n  \nMit freundlichen GrÃ¼ÃŸen \nDer Vorstand des Tennisclub a. d. Amper \n
URL:http://tca-hebertshausen.de/event/lichterkette-fuer-toleranz-frieden-und-demokratie/
LOCATION:Rathausplatz Hebertshausen
ATTACH;FMTTYPE=image/jpeg:http://tca-hebertshausen.de/wp-content/uploads/2025/03/2025_03_Lichterkette_2025.jpg
END:VEVENT
END:VCALENDAR