BEGIN:VCALENDAR
VERSION:2.0
PRODID:-//TCA Hebertshausen - ECPv4.6.23//NONSGML v1.0//EN
CALSCALE:GREGORIAN
METHOD:PUBLISH
X-WR-CALNAME:TCA Hebertshausen
X-ORIGINAL-URL:http://tca-hebertshausen.de
X-WR-CALDESC:Veranstaltungen für TCA Hebertshausen
BEGIN:VEVENT
DTSTART;TZID=UTC+0:20200710T180000
DTEND;TZID=UTC+0:20200710T235900
DTSTAMP:20260426T003710
CREATED:20200327T212815Z
LAST-MODIFIED:20200624T205205Z
UID:1211-1594404000-1594425540@tca-hebertshausen.de
SUMMARY:Weiße Nacht 2020
DESCRIPTION:Weiße Nacht 2020 \n24.06.2020:\nLeider muss unsere weise Nacht in diesem Jahr auf Grund der Covid-19-Pandemie ausfallen. 🙁\nWir freuen uns auf Euren Besuch im nächsten Jahr! \n \n27.03.2020:\nJedes Jahr ein wahrer Sommernachtstraum: Unsere weiße Nacht.\nSei dabei am Freitag\, den 10. Juli 2020\, ab 18:00 Uhr. \nEs erwarten dich: \n\nSektempfang ab 18:00 Uhr\nGrillspezialitäten und Leckereien\nLaue Sommernachtsatmosphäre\nKühle\, spritzige Getränke sowie guter Wein\nMusik und Tanz\nGespräche und Geselligkeit\n\nBitte in weißer Kleidung erscheinen (Herren auch in weißer Beinbekleidung 😉 )! \nInfos und Anmeldung:\nDorothea Obeser (Beauftragte &#8222;weiße Nacht&#8220;)\nEmail: dorothea.obeser@tca-hebertshausen.de\nTel.: +49 (0) 81 31 &#8211; 1 59 15 \n
URL:http://tca-hebertshausen.de/event/weisse-nacht-2020/
LOCATION:Vereinsheim TCA Hebertshausen\, Neufeldstr. 2\, Hebertshausen\, Bayern\, 85241\, Deutschland
ATTACH;FMTTYPE=image/jpeg:http://tca-hebertshausen.de/wp-content/uploads/2020/03/2020-07-Weiße-Nacht-2020-CORONA.jpg
END:VEVENT
END:VCALENDAR