BEGIN:VCALENDAR
VERSION:2.0
PRODID:-//TCA Hebertshausen - ECPv4.6.23//NONSGML v1.0//EN
CALSCALE:GREGORIAN
METHOD:PUBLISH
X-WR-CALNAME:TCA Hebertshausen
X-ORIGINAL-URL:http://tca-hebertshausen.de
X-WR-CALDESC:Veranstaltungen für TCA Hebertshausen
BEGIN:VEVENT
DTSTART;TZID=UTC+0:20190712T180000
DTEND;TZID=UTC+0:20190712T233000
DTSTAMP:20260425T163009
CREATED:20190327T114800Z
LAST-MODIFIED:20190509T111715Z
UID:903-1562954400-1562974200@tca-hebertshausen.de
SUMMARY:Weiße Nacht 2019
DESCRIPTION:Weiße Nacht 2019 \nJedes Jahr ein wahrer Sommernachtstraum: Unsere weiße Nacht.\nSei dabei am Freitag\, den 12. Juli 2019\, ab 18:00 Uhr. \nEs erwarten dich: \n\nSektempfang ab 18:00 Uhr\nGrillspezialitäten und Leckereien\nLaue Sommernachtsatmosphäre\nKühle und spritzige Getränke sowie guter Wein\nMusik und Tanz\nGespräche und Geselligkeit\n\nBitte in weißer Kleidung erscheinen (Herren auch in weißer Beinbekleidung 😉 )! \nInfos und Anmeldung:\nDorothea Obeser (2. Vorsitzende)\nEmail: dorothea.obeser@tca-hebertshausen.de\nTel.: +49 (0) 81 31 &#8211; 1 59 15 \n
URL:http://tca-hebertshausen.de/event/weisse-nacht-2019/
LOCATION:Vereinsheim TCA Hebertshausen\, Neufeldstr. 2\, Hebertshausen\, Bayern\, 85241\, Deutschland
ATTACH;FMTTYPE=image/jpeg:http://tca-hebertshausen.de/wp-content/uploads/2019/03/2019-07-Weiße-Nacht-2019.jpg
END:VEVENT
END:VCALENDAR