BEGIN:VCALENDAR
VERSION:2.0
PRODID:-//TCA Hebertshausen - ECPv4.6.23//NONSGML v1.0//EN
CALSCALE:GREGORIAN
METHOD:PUBLISH
X-WR-CALNAME:TCA Hebertshausen
X-ORIGINAL-URL:http://tca-hebertshausen.de
X-WR-CALDESC:Veranstaltungen für TCA Hebertshausen
BEGIN:VEVENT
DTSTART;TZID=UTC+0:20200912T093000
DTEND;TZID=UTC+0:20200913T160000
DTSTAMP:20260426T003817
CREATED:20200327T213754Z
LAST-MODIFIED:20200327T213828Z
UID:1214-1599903000-1600012800@tca-hebertshausen.de
SUMMARY:Vereinsmeisterschaften Einzel/Doppel/Mixed  2020
DESCRIPTION:Vereinsmeisterschaften Einzel/Doppel/Mixed  2020 \nIm September geht es nochmal rund&#8230;bei unseren Vereinsmeisterschaften! \nEinzel                   &#8211;> Samstag\, 12. September 2020\, ab 9:30 Uhr\nDoppel/Mixed   &#8211;> Sonntag\, 13. September 2020\, ab 9:30 Uhr \nWir freuen uns auf spannende Matches.\nSei auch du dabei! \nInfos und Anmeldung:\nThomas Kiendl (Abteilung Sport)\nEmail: thomas.kiendl@tca-hebertshausen.de\nTel.: +49 (0) 1577 &#8211; 03 633 40 \n* bei geringen Teilnehmerzahlen werden alle Disziplinen am Sonntag\, den 13. September ausgetragen!\n** Zur Anmeldung liegen ebenfalls Listen im Vereinsheim bereit! \n
URL:http://tca-hebertshausen.de/event/vereinsmeisterschaften-einzel-doppel-mixed-2020/
LOCATION:Vereinsheim TCA Hebertshausen\, Neufeldstr. 2\, Hebertshausen\, Bayern\, 85241\, Deutschland
ATTACH;FMTTYPE=image/jpeg:http://tca-hebertshausen.de/wp-content/uploads/2020/03/2020-09-Vereinsmeisterschaften-2020.jpg
END:VEVENT
END:VCALENDAR