BEGIN:VCALENDAR
VERSION:2.0
PRODID:-//TCA Hebertshausen - ECPv4.6.23//NONSGML v1.0//EN
CALSCALE:GREGORIAN
METHOD:PUBLISH
X-WR-CALNAME:TCA Hebertshausen
X-ORIGINAL-URL:http://tca-hebertshausen.de
X-WR-CALDESC:Veranstaltungen für TCA Hebertshausen
BEGIN:VEVENT
DTSTART;TZID=UTC+0:20200810T093000
DTEND;TZID=UTC+0:20200813T150000
DTSTAMP:20260426T043850
CREATED:20200721T193611Z
LAST-MODIFIED:20200721T193611Z
UID:1387-1597051800-1597330800@tca-hebertshausen.de
SUMMARY:Tenniscamp in den Sommerferien 2020
DESCRIPTION:Sommerferien-Tenniscamp 2020 \nFür uns jedes Jahr das Highlight der Saison: Unser Tenniscamp in den Sommerferien. \nNEU IN DIESEM JAHR: Es kann in JEDER Woche der Sommerferien ein Tenniscamp besucht werden.\nQuasi &#8222;all Ferien long&#8220;. 😉 \nImmer von Montag bis Donnerstag gibt es Tennis satt\, Freunde\, Lernen\, Spiel\, Spaß\, Bewegung und hoffentlich jede Menge Sonne.\nOption 1: 9:30 Uhr bis 15:00 Uhr inklusive Mittagessen\nOption 2: 9:30 Uhr bis 12:00 Uhr ohne Mittagessen \nMelde dich jetzt an! Hier findest du alle Informationen zum Sommercamp inklusive Preise. \nAufgrund der besseren gastronomischen Infrastruktur für das Mittagessen finden die Camps auf der Anlage des TC Dachau statt (Gröbenrieder Straße 17\, 85221 Dachau). \nBitte mitbringen: Turnschuhe mit glatter Sohle\, Sportkleidung\, Getränk.\nSchläger und Bälle werden selbstverständlich gestellt. \nCORONA-INFO:\nDie Sicherheit hat oberste Priorität!\nDas Trainerteam der Tennisschule Zick hält sich streng an die Hygiene und Verhaltensregeln des BTV sowie alle Vorgaben der Infektionsschutzmaßnahmenverordnung für den Bereich Sport. \nAlle Infos zum Tenniscamp bekommst du auch hier:\nPeter Zick (Tennisschule Zick Dachau)\nEmail: peter@tenniszick.de\nTel.: +49 (0) 172 57 84 321 \n
URL:http://tca-hebertshausen.de/event/tenniscamp-in-den-sommerferien-2020-3/
LOCATION:TC Dachau\, Gröbenriederstraße 17\, Dachau\, Bayern\, 85221\, Deutschland
ATTACH;FMTTYPE=image/jpeg:http://tca-hebertshausen.de/wp-content/uploads/2020/07/2020-07-Tenniscamp-Sommerferien-2020-neu.jpg
END:VEVENT
END:VCALENDAR