BEGIN:VCALENDAR
VERSION:2.0
PRODID:-//TCA Hebertshausen - ECPv4.6.23//NONSGML v1.0//EN
CALSCALE:GREGORIAN
METHOD:PUBLISH
X-WR-CALNAME:TCA Hebertshausen
X-ORIGINAL-URL:http://tca-hebertshausen.de
X-WR-CALDESC:Veranstaltungen für TCA Hebertshausen
BEGIN:VEVENT
DTSTART;TZID=UTC+0:20190427T130000
DTEND;TZID=UTC+0:20190427T160000
DTSTAMP:20260425T163119
CREATED:20190324T144553Z
LAST-MODIFIED:20190509T113621Z
UID:863-1556370000-1556380800@tca-hebertshausen.de
SUMMARY:Tag der offenen Tür 2019
DESCRIPTION:Tag der offenen Tür 2019 \nUnsere Türen stehen allen Interessierten selbstverständlich das ganze Jahr über offen. 😉\nZu unserem Tag der offenen Tür am Samstag\, den 27. April 2019 ab 13:00 Uhr möchten wir jedoch insbesondere herzlich einladen! \nBereits zum dritten Mal steht der Tag unter dem Motto &#8222;Deutschland spielt Tennis&#8222;\, der Kampagne des Deutschen Tennis Bunds (DTB). Und es ist Einiges geboten: \n\nKids-Olympiade\nKostenloses Schnuppertraining für Kinder und Erwachsene\nMöglichkeiten zum freien Ausprobieren\nTrainer*innen\, Mitglieder und Vereinsverantwortliche kennenlernen\nHochklassiges Showmatch ehemaliger Weltranglistenspieler*innen\n\nAuch für kühle Getränke und das leibliche Wohl ist natürlich gesorgt. \nKomm vorbei und erlebe Tennis beim TCA Hebertshausen! \nFragen?\nWeitere Infos erhältst du bei:\nThomas Kiendl (Abteilung Jugend)\nEmail: thomas.kiendl@tca-hebertshausen.de\nTel.: +49 (0) 1577 03 633 40 \n
URL:http://tca-hebertshausen.de/event/tag-der-offenen-tuer/
LOCATION:Vereinsheim TCA Hebertshausen\, Neufeldstr. 2\, Hebertshausen\, Bayern\, 85241\, Deutschland
ATTACH;FMTTYPE=image/jpeg:http://tca-hebertshausen.de/wp-content/uploads/2019/03/2019-04-Tag-der-offenen-Tür-2019.jpg
END:VEVENT
END:VCALENDAR