BEGIN:VCALENDAR
VERSION:2.0
PRODID:-//TCA Hebertshausen - ECPv4.6.23//NONSGML v1.0//EN
CALSCALE:GREGORIAN
METHOD:PUBLISH
X-WR-CALNAME:TCA Hebertshausen
X-ORIGINAL-URL:http://tca-hebertshausen.de
X-WR-CALDESC:Veranstaltungen für TCA Hebertshausen
BEGIN:VEVENT
DTSTART;TZID=UTC+0:20230806T110000
DTEND;TZID=UTC+0:20230806T160000
DTSTAMP:20260426T043850
CREATED:20230705T114525Z
LAST-MODIFIED:20230705T114525Z
UID:1661-1691319600-1691337600@tca-hebertshausen.de
SUMMARY:Tag der offenen Tür 2023
DESCRIPTION:50 Jahre TCA Hebertshausen &#8211; Tag der offenen Tür 2023 \nUnsere Türen stehen allen Interessierten selbstverständlich das ganze Jahr über offen. \nZu unserem Tag der offenen Tür möchten wir jedoch insbesondere herzlich einladen!\nDieses Jahr haben wir einen besonderen Grund zum Feiern: Der TCA Hebertshausen wird  Jahre alt! \nWie jedes Jahr findet der Tag im Rahmen der Aktion &#8222;Deutschland spielt Tennis&#8222; des Deutschen Tennis Bunds (DTB) statt. \n Kostenloses Schnuppertraining für Kinder und Erwachsene\n Möglichkeiten zum freien Ausprobieren\n Hochklassiges Show-Match\n Schleiferl-Turnier\n Trainer*innen\, Mitglieder und Vereinsverantwortliche kennenlernen \n Sonntag\, 6. August 2023\n 11:00 &#8211; 16:00 Uhr\n Anlage TCA Hebertshausen\, Neufeldstraße 2 \nAuch für kühle Getränke und das leibliche Wohl ist natürlich gesorgt.\nKomm vorbei und erlebe Tennis beim TCA Hebertshausen! \n Fragen?\n Wolfgang Schmid (1. Vorsitzender)\n wolfgang.schmid@tca-hebertshausen.de\n 0 81 31 &#8211; 2 63 53 \n
URL:http://tca-hebertshausen.de/event/tag-der-offenen-tuer-2023/
LOCATION:Vereinsheim TCA Hebertshausen\, Neufeldstr. 2\, Hebertshausen\, Bayern\, 85241\, Deutschland
ATTACH;FMTTYPE=image/jpeg:http://tca-hebertshausen.de/wp-content/uploads/2023/07/2023-08-Tag-der-offenen-Tür-2023_2.jpg
END:VEVENT
END:VCALENDAR