BEGIN:VCALENDAR
VERSION:2.0
PRODID:-//TCA Hebertshausen - ECPv4.6.23//NONSGML v1.0//EN
CALSCALE:GREGORIAN
METHOD:PUBLISH
X-WR-CALNAME:TCA Hebertshausen
X-ORIGINAL-URL:http://tca-hebertshausen.de
X-WR-CALDESC:Veranstaltungen für TCA Hebertshausen
BEGIN:VEVENT
DTSTART;TZID=UTC+0:20200509T130000
DTEND;TZID=UTC+0:20200509T160000
DTSTAMP:20260426T003817
CREATED:20200325T204035Z
LAST-MODIFIED:20200624T210251Z
UID:1191-1589029200-1589040000@tca-hebertshausen.de
SUMMARY:Tag der offenen Tür 2020
DESCRIPTION:Tag der offenen Tür 2020 \n24.06.2020\nLeider müssen wir unseren Tag der offenen Tür auf Grund von Corona absagen. 🙁\nWir freuen uns auf Euren Besuch im nächsten Jahr! \n \n16.04.2020:\nUnsere Türen stehen allen Interessierten selbstverständlich das ganze Jahr über offen. 😉\nZu unserem Tag der offenen Tür am Samstag\, den 9. Mai 2020 ab 13:00 Uhr möchten wir jedoch insbesondere herzlich einladen! \nWie jedes Jahr findet der Tag im Rahmen der Aktion &#8222;Deutschland spielt Tennis&#8222; des Deutschen Tennis Bunds (DTB).\nUnd es ist Einiges geboten: \n\nKids-Olympiade\nKostenloses Schnuppertraining für Kinder und Erwachsene\nMöglichkeiten zum freien Ausprobieren\nTrainer*innen\, Mitglieder und Vereinsverantwortliche kennenlernen\n\nAuch für kühle Getränke und das leibliche Wohl ist natürlich gesorgt. \nKomm vorbei und erlebe Tennis beim TCA Hebertshausen! \nFragen? Weitere Infos erhältst du bei:\nThomas Kiendl (Abteilung Jugend TCA Hebertshausen)\nEmail: thomas.kiendl@tca-hebertshausen.de\nTel.: +49 (0) 1577 03 633 40 \n
URL:http://tca-hebertshausen.de/event/tag-der-offenen-tuer-2020/
LOCATION:Vereinsheim TCA Hebertshausen\, Neufeldstr. 2\, Hebertshausen\, Bayern\, 85241\, Deutschland
ATTACH;FMTTYPE=image/jpeg:http://tca-hebertshausen.de/wp-content/uploads/2020/06/2020-05-Tag-der-offenen-Tür-2020-CORONA_Neu.jpg
END:VEVENT
END:VCALENDAR