BEGIN:VCALENDAR
VERSION:2.0
PRODID:-//TCA Hebertshausen - ECPv4.6.23//NONSGML v1.0//EN
CALSCALE:GREGORIAN
METHOD:PUBLISH
X-WR-CALNAME:TCA Hebertshausen
X-ORIGINAL-URL:http://tca-hebertshausen.de
X-WR-CALDESC:Veranstaltungen für TCA Hebertshausen
BEGIN:VEVENT
DTSTART;VALUE=DATE:20190429
DTEND;VALUE=DATE:20190430
DTSTAMP:20260425T191616
CREATED:20190324T142507Z
LAST-MODIFIED:20190727T202543Z
UID:860-1556496000-1556582399@tca-hebertshausen.de
SUMMARY:Start Erwachsenentraining 2019
DESCRIPTION:Start Erwachsenentraining 2019 \nAm Montag\, den 29. April 2019 startet unser Sommertraining 2019. \nLerne Tennis nach innovativen Methoden und finde ganz einfach Spielpartner*innen. \nHier findest du die Infos und Anmeldung zum Training. \nBitte beachten: Es können nur vollständig ausgefüllte Anmeldeformulare (inklusive möglicher Trainingszeiten und SEPA-Mandat!) akzeptiert werden. \nAlle Infos zum Training und zu den aktuellen Konditionen erhältst du außerdem direkt bei unserem Kooperationspartner:\nPeter Zick (Tennisschule Zick Dachau)\nEmail: peter@tenniszick.de\nTel.: +49 (0) 172 57 84 321 \n* Die Mitgliedschaft im TCA Hebertshausen ist Voraussetzung für die Teilnahme am Training! >> Mitglied werden \n
URL:http://tca-hebertshausen.de/event/start-erwachsenentraining-2019/
LOCATION:Vereinsheim TCA Hebertshausen\, Neufeldstr. 2\, Hebertshausen\, Bayern\, 85241\, Deutschland
ATTACH;FMTTYPE=image/jpeg:http://tca-hebertshausen.de/wp-content/uploads/2019/03/2019-04-Erwachsenentraining-2019.jpg
END:VEVENT
END:VCALENDAR