BEGIN:VCALENDAR
VERSION:2.0
PRODID:-//TCA Hebertshausen - ECPv4.6.23//NONSGML v1.0//EN
CALSCALE:GREGORIAN
METHOD:PUBLISH
X-WR-CALNAME:TCA Hebertshausen
X-ORIGINAL-URL:http://tca-hebertshausen.de
X-WR-CALDESC:Veranstaltungen fÃ¼r TCA Hebertshausen
BEGIN:VEVENT
DTSTART;VALUE=DATE:20200928
DTEND;VALUE=DATE:20200929
DTSTAMP:20260426T003517
CREATED:20200327T220115Z
LAST-MODIFIED:20200913T202650Z
UID:1224-1601251200-1601337599@tca-hebertshausen.de
SUMMARY:Start der Hallensaison 2020/21
DESCRIPTION:Liebe Mitglieder\,\n\n\ndiese von Corona geprÃ¤gte Tennissaison ist rasend schnell vergangen\, es steht bereits die Hallensaison 2020/21 an. \nDas Wichigste in KÃ¼rze: \n\n\nDie Anmeldung erfolgt dieses Jahr erstmalig Ã¼ber das neue Buchungsportal der Tennisschule Zick:\nhttps://sportision.de/club/tca-hebertshausenÂ \nDie Konditionen zum Hallentraining findet Ihr ebenfalls dort oder hier in der Datei Wintertraining 2020/21 TCA Hebertshausen\nSollten bei der Anmeldung Probleme auftreten\, wendet Euch bitte direkt an die Tennisschule Zick Ã¼ber die unten genannte Mailadresse (johannes@tenniszick.de)\nDas Hallentraining findet in einer der Dachauer Tennishallen statt\, bei denen die Tennisschule Zick Ã¼ber umfangreiche Trainingszeiten verfÃ¼gt\nDas Hallentraining startet am 28. September 2020\nAnmeldeschluss ist der 20. September\, es werden jedoch auch wÃ¤hrend der Hallensaison Trainingsanmeldungen entgegengenommen\n\nWichtiger Hinweis der Tennisschule:\n\nBitte bei der Anmeldung ALLE mÃ¶glichen Trainingszeiten angeben!\nBitte innerhalb bestehender Trainingsgruppen eigenstÃ¤ndig im Vorfeld Absprachen bzgl. Wunschpartnern und -terminen treffen!\n\nDie Einteilung der Trainingsgruppen und die Zuordnung zu den Hallenzeiten ist eine organisatorische Mamutaufgabe\, die die Tennisschule Zick jedes Jahr mit viel Engagement\, Sorgfalt und Weitsicht meistert.\nWir bitten alle Mitglieder und Trainingsteilnehmer*innen um eine konstruktive Haltung und gute Zusammenarbeit\, dass die Wintertrainings-Organisation bestmÃ¶glich gelingt.\n\nBei Fragen oder Problemen kÃ¶nnt Ihr euch ebensoÂ jederzeit an unserenÂ Sport- und Jugenwart Thomas Kiendl (thomas.kiendl@tca-hebertshausen.de) wenden.\n\nViel Freude beim Hallentraining in der Wintersaison 2020/21 wÃ¼nscht Euch\ndas Vorstandteam des TCA Hebertshausen\n\n&#8212;&#8212;&#8212;&#8212;&#8212;&#8212;&#8212;&#8212;&#8212;&#8212;&#8212;&#8212;&#8212;&#8212;&#8212;&#8212;&#8212;&#8212;&#8212;&#8212;&#8212;&#8212;&#8212;&#8212;&#8212;&#8212;&#8212;&#8212;&#8212;&#8211;\n\nAlle Infos zum Training und zu den aktuellen Konditionen erhÃ¤ltst du auÃŸerdem direkt bei unserem Kooperationspartner:\nPeter Zick (Tennisschule Zick Dachau)\nEmail: peter@tenniszick.de\nTel.: +49 (0) 172 57 84 321 \n* Die Mitgliedschaft im TCA Hebertshausen ist Voraussetzung fÃ¼r die Teilnahme am Training!\n>> Mitglied werden << \n  \n&#8212;&#8212;&#8212;&#8212;&#8212;&#8212;&#8212;&#8212;&#8212;&#8212;&#8212;&#8212;&#8212;&#8212;&#8212;&#8212;&#8212;&#8212;&#8212;&#8212;&#8212;&#8212;&#8212;&#8212;&#8212;&#8212;&#8212;&#8212;&#8212;- \n  \nNachfolgend die Email der Tennisschule Zick zum Wintertraining 2020/21 im Wortlaut: \n\nLiebe Tennisfans\,Â  \nDa die Wintersaison schon am 28.9 startet und hoffentlich die nÃ¤chsten TageÂ dieÂ Â  \n\nStundenplÃ¤ne bei allen vorliegen\, wollen wir nun mit Hochdruck eureÂ Termine planen.\nDeshalb AnmeldeschuÃŸÂ 20.9.Â \nWir werden auch Anmeldungen danach annehmen\, aber dann stehen nur die\nRestzeiten/plÃ¤tze zur VerfÃ¼gung.SelbstverstÃ¤ndlich kÃ¶nnt ihr unabhÃ¤ngig von dieser Planung auch in Zukunft\nspontan mit den Trainern Einzelstunden etc vereinbaren\, wenn noch PlÃ¤tzeÂ frei sind.\nDies wird sicher bis zum frÃ¼hen Nachmittag und an den Wochenenden mÃ¶glichÂ sein. \nWie schon angekÃ¼ndigt wickeln wir die Anmeldungen ab sofort Ã¼ber ein\nOnlineportal ab\, sollte es hier Fragen oder Probleme geben bitte bei\nJohannes\,Â johannes@tenniszick.de\, melden. \nHier der Link der direkt zur Anmeldung fÃ¼hrt:Â  \n\n\nÂ https://sportision.de/club/tca-hebertshausenÂ \n\nBitte sprecht euch innerhalb eurer Gruppen bzw mit euren Wunschpartnern ab\ndamit die TerminwÃ¼nsche zusammenpassen.\nGanz wichtig\, bitte gebt ALLE mÃ¶glichen Termine an! Wir kÃ¶nnen sicher nicht\nalle WÃ¼nsche erfÃ¼llen und pro Stunde passen nur 4 Personen rein.\nWir werden uns wieder bemÃ¼hen einen fÃ¼r alle mÃ¶glichst optimalen\nTrainingsplan zu erstellen aber bitten jetzt schon um VerstÃ¤ndnis dass die\nKapazitÃ¤t begrenzt ist. Deshalb jetzt schnell anmelden und unter Bemerkungen\ngern eure TrainerwÃ¼nsche oder Anmerkungen hinterlassen.Ausser dem Kindergruppentraining kÃ¶nnt ihr selbstverstÃ¤ndlich alle Arten von\nTraining fÃ¼r Kinder\, Erwachsene sowie AnfÃ¤nger und SpielstÃ¤rken buchen. Es\nwird die Fastlearning Kurse wieder geben und auch Matchtrainings. Schaut\neuch die Angebote auf unserer HomepageÂ tenniszick.deÂ immer wieder mal an. \nDer Sommertrainingsplan lÃ¤uft noch bis 27.9 wie gehabt.\nParallel und auch nach dem 27.9 laufen noch Nachholstunden und zusÃ¤tzliche\nindividuelle Trainings sind buchbar.\nWenn ihr noch Nachholtermine offen habt bitte jetzt mit den Trainern direkt\nausmachen oder bei mir per Mail melden damit ich das checken kann. \nUnabhÃ¤ngig von der Winteranmeldung haben wir jetzt zum Saisonende\nHammerangebote fÃ¼r Tennisschuhe und AuslaufschlÃ¤ger.\nWenn ihr hier Interesse habt schickt mir eure WÃ¼nsche mit SchuhgrÃ¶ÃŸe etc\noder sprecht eure Trainer an.Â  \nMit sportlichen GrÃ¼ÃŸen\, \nPeter Zick\nMobil: 01725784321\nwww.tenniszick.de \n\n  \n  \n
URL:http://tca-hebertshausen.de/event/start-der-hallensaison-2020-21/
LOCATION:Vereinsheim TCA Hebertshausen\, Neufeldstr. 2\, Hebertshausen\, Bayern\, 85241\, Deutschland
ATTACH;FMTTYPE=image/jpeg:http://tca-hebertshausen.de/wp-content/uploads/2020/03/2020-09-Start-Hallensaison-2020-21.jpg
END:VEVENT
END:VCALENDAR