BEGIN:VCALENDAR
VERSION:2.0
PRODID:-//TCA Hebertshausen - ECPv4.6.23//NONSGML v1.0//EN
CALSCALE:GREGORIAN
METHOD:PUBLISH
X-WR-CALNAME:TCA Hebertshausen
X-ORIGINAL-URL:http://tca-hebertshausen.de
X-WR-CALDESC:Veranstaltungen für TCA Hebertshausen
BEGIN:VEVENT
DTSTART;TZID=UTC+0:20200426T093000
DTEND;TZID=UTC+0:20200426T160000
DTSTAMP:20260426T003531
CREATED:20200325T211020Z
LAST-MODIFIED:20200624T210613Z
UID:1202-1587893400-1587916800@tca-hebertshausen.de
SUMMARY:Schleiferlturnier 2020
DESCRIPTION:Schleiferlturnier 2020 \n24.06.2020:\nLeider müssen wir unser Schleiferlturnier auf Grund von Corona absagen. 🙁\nWir freuen uns auf Euren Besuch im nächsten Jahr! \n \n \n04.04.2020:\nUnser traditionelles Schleiferlturnier darf zu Saisonbeginn nicht fehlen.\nEs findet am Sonntag\, den 26. April 2020 ab 9:30 Uhr statt. \n\nAb   9:30 Uhr:  Ausgiebiges Frühstücksbuffet (im 5€-Teilnahmebeitrag inklusive!)\nAb 10:30 Uhr:  Freizeitturnier mit zufällig gelosten Mixed-Paaren\n\nBesonderes Highlight werden wie gewohnt die einfallsreichen und lustigen Geschicklichkeitsspiele unseres 2. Vorstands Erich sein.\nWir freuen uns schon sehr darauf! \nInfos und Anmeldung zum Turnier:\nThomas Kiendl (Abteilung Sport TCA Hebertshausen)\nEmail: thomas.kiendl@tca-hebertshausen.de\nTel.: +49 (0) 1577 03 633 40 \n
URL:http://tca-hebertshausen.de/event/schleiferlturnier-2020/
LOCATION:Vereinsheim TCA Hebertshausen\, Neufeldstr. 2\, Hebertshausen\, Bayern\, 85241\, Deutschland
ATTACH;FMTTYPE=image/jpeg:http://tca-hebertshausen.de/wp-content/uploads/2020/06/2020-04-Schleiferlturnier-2020-CORONA-Neu.jpg
END:VEVENT
END:VCALENDAR