BEGIN:VCALENDAR
VERSION:2.0
PRODID:-//TCA Hebertshausen - ECPv4.6.23//NONSGML v1.0//EN
CALSCALE:GREGORIAN
METHOD:PUBLISH
X-WR-CALNAME:TCA Hebertshausen
X-ORIGINAL-URL:http://tca-hebertshausen.de
X-WR-CALDESC:Veranstaltungen fÃ¼r TCA Hebertshausen
BEGIN:VEVENT
DTSTART;TZID=UTC+0:20240418T190000
DTEND;TZID=UTC+0:20240418T210000
DTSTAMP:20260426T032424
CREATED:20240315T221359Z
LAST-MODIFIED:20240315T221359Z
UID:1677-1713466800-1713474000@tca-hebertshausen.de
SUMMARY:Jahreshauptversammlung 2024
DESCRIPTION:Jahreshauptversammlung 2024 \nDu bist TCA-Mitglied?\nDann komm vorbei und gestalte deinen Verein.\nJede Stimme zÃ¤hlt!Â \nWir freuen uns auf dich. \nÂ Donnerstag\, 18. April 2024\nÂ 19:00 Uhr\nÂ Vereinsheim TCA Hebertshausen\, NeufeldstraÃŸe 2 \nÂ Die Tagesordnung kommt allen Mitgliedern spÃ¤testens 3 Wochen im Voraus per Email zu! \n  \nÂ Du hast Fragen oder willst einen Punkt auf die Tagesordnung setzen?\nÂ Wolfgang SchmidÂ (1. Vorsitzender)\nÂ wolfgang.schmid@tca-hebertshausen.de\nÂ 0 81 31 &#8211; 2 63 53 \n
URL:http://tca-hebertshausen.de/event/jahreshauptversammlung-2024/
LOCATION:Vereinsheim TCA Hebertshausen\, Neufeldstr. 2\, Hebertshausen\, Bayern\, 85241\, Deutschland
ATTACH;FMTTYPE=image/jpeg:http://tca-hebertshausen.de/wp-content/uploads/2024/03/2024-04-Jahreshauptversammlung-2024.jpg
END:VEVENT
END:VCALENDAR