BEGIN:VCALENDAR
VERSION:2.0
PRODID:-//TCA Hebertshausen - ECPv4.6.23//NONSGML v1.0//EN
CALSCALE:GREGORIAN
METHOD:PUBLISH
X-WR-CALNAME:TCA Hebertshausen
X-ORIGINAL-URL:http://tca-hebertshausen.de
X-WR-CALDESC:Veranstaltungen für TCA Hebertshausen
BEGIN:VEVENT
DTSTART;TZID=UTC+0:20181116T193000
DTEND;TZID=UTC+0:20181116T210000
DTSTAMP:20260425T221403
CREATED:20181102T144247Z
LAST-MODIFIED:20191009T083029Z
UID:766-1542396600-1542402000@tca-hebertshausen.de
SUMMARY:Jahreshauptversammlung 2018
DESCRIPTION:Jahreshauptversammlung 2018 \nUnsere Jahreshauptversammlung 2018 findet am Freitag\, den 16.11.2018 ab 19:30 Uhr im Vereinsheim des TCA Hebertshausen statt.\nDu bist TCA-Mitglied? Dann komm vorbei und gestalte unseren tollen Verein mit!\nJede Stimme zählt! Wir freuen uns auf dich! \n* die Tagesordnung kommt allen Mitgliedern spätestens 3 Wochen im Voraus per Email zu! \n
URL:http://tca-hebertshausen.de/event/jahreshauptversammlung-2018/
LOCATION:Vereinsheim TCA Hebertshausen\, Neufeldstr. 2\, Hebertshausen\, Bayern\, 85241\, Deutschland
ATTACH;FMTTYPE=image/jpeg:http://tca-hebertshausen.de/wp-content/uploads/2018/11/2018-11-Jahreshauptversammlung-2018.jpg
END:VEVENT
END:VCALENDAR