BEGIN:VCALENDAR
VERSION:2.0
PRODID:-//TCA Hebertshausen - ECPv4.6.23//NONSGML v1.0//EN
CALSCALE:GREGORIAN
METHOD:PUBLISH
X-WR-CALNAME:TCA Hebertshausen
X-ORIGINAL-URL:http://tca-hebertshausen.de
X-WR-CALDESC:Veranstaltungen für TCA Hebertshausen
BEGIN:VEVENT
DTSTART;TZID=UTC+0:20191026T090000
DTEND;TZID=UTC+0:20191026T130000
DTSTAMP:20260425T203449
CREATED:20191009T082839Z
LAST-MODIFIED:20191009T082839Z
UID:1117-1572080400-1572094800@tca-hebertshausen.de
SUMMARY:Herbst-Arbeitsdienst 2019
DESCRIPTION:Herbst-Arbeitsdienst 2019 \nLiebe Mitglieder\, \ndie Saison neigt sich dem Ende zu und so rufen wir alle Mitglieder dringend auf\, uns bei den anstehenden Herbstarbeiten auf unserer Tennisanlage zu unterstützen. Für diejenigen\, die eine Arbeitsumlage zu leisten haben\, ist dies auch die letzte Gelegenheit\, diese abzuarbeiten. \nDer Herbst-Arbeitsdienst wurde auf die Samstage 19.10.2019 und 26.10.2019 jeweils von 09:00 bis 13:00 Uhr angesetzt. Wir hoffen auf rege Beteiligung\, denn es gibt noch viel zu tun. \nInzwischen kann auf der Anlage noch gespielt werden\, doch am 19.10.2019 werden die Plätze 1 und 2 und am 26.10.2019 die Plätze 3 und 4 geschlossen und der Spielbetrieb 2019 somit eingestellt. \nMit sportlichen Grüßen\nDie Vorstandschaft des Tennisclub a. d. Amper \n
URL:http://tca-hebertshausen.de/event/herbst-arbeitsdienst-2019-2/
LOCATION:Vereinsheim TCA Hebertshausen\, Neufeldstr. 2\, Hebertshausen\, Bayern\, 85241\, Deutschland
ATTACH;FMTTYPE=image/jpeg:http://tca-hebertshausen.de/wp-content/uploads/2019/10/2019-10-Arbeitsdienst-Herbst-2019.jpg
END:VEVENT
END:VCALENDAR