BEGIN:VCALENDAR
VERSION:2.0
PRODID:-//TCA Hebertshausen - ECPv4.6.23//NONSGML v1.0//EN
CALSCALE:GREGORIAN
METHOD:PUBLISH
X-WR-CALNAME:TCA Hebertshausen
X-ORIGINAL-URL:http://tca-hebertshausen.de
X-WR-CALDESC:Veranstaltungen fÃ¼r TCA Hebertshausen
BEGIN:VEVENT
DTSTART;TZID=UTC+0:20200425T090000
DTEND;TZID=UTC+0:20200425T130000
DTSTAMP:20260426T020446
CREATED:20200325T205137Z
LAST-MODIFIED:20200411T125245Z
UID:1200-1587805200-1587819600@tca-hebertshausen.de
SUMMARY:FrÃ¼hjahrs-Arbeitsdienst 2020
DESCRIPTION:FrÃ¼hjahrs-Arbeitsdienst 2020\n(Bitte beachtet die Informationen zu Corona weiter unten!) \nBald startet die neue Saison. Wir kÃ¶nnen es kaum erwarten!\nDamit die PlÃ¤tze rechtzeitig bespielbar sind und die Anlage fÃ¼r den Sommer\, das Training und die Punktspiele fit gemacht werden kann\, brauchen wir deine UnterstÃ¼tzung! \nDie FrÃ¼hjahrs-Arbeitsdienste finden an den am Samstagen 18.04.2020Â und 25.04.2020 je ab 9:00 UhrÂ statt. \nMach mit â€“ und spare dir mit der Arbeitsumlage bares Geld! \n* GetrÃ¤nke werden selbstverstÃ¤ndlich vom Verein gestellt \n  \nWichtiger Hinweis: \nLiebe Mitglieder\, \nauf Grund der momentanen Situation\, muss der geplante Arbeitsdienst fÃ¼r Samstag den 18.April abgesagt werden. Ob der geplante zweite Termin wie vorgesehen am 25. April durchgefÃ¼hrt werden kann \, ist noch offen.\nDaher hat der TCA beschlossen\, einzelne Arbeiten im Vorfeld individuell fÃ¼r Einzelpersonen oder Paare (Ehepaare/Lebensgemeinschaften) ab Dienstag\, 14. April bis zum Freitag den 24. April anzubieten.\nEs handelt sich im Wesentlichen um folgende Arbeiten: \n\nSÃ¤uberung des Parkplatzes (Laub und Schmutz entfernen/Wildwuchs zurÃ¼ckschneiden)\nSÃ¤uberung der AuÃŸenanlagen (abgebrochene Zweige\,Â Ã„ste\,Â Nadeln und Laub aus den Bepflanzungen entfernen)\nReparatur der Balustrade\nSÃ¤uberung der Wasserrinne.\n\nWenn nun jemand Zeit und Lust hat\, seine Arbeitsstunden im Vorfeld und nicht erst beim offiziellen Arbeitsdienst einzubringen\, soll er sich mit Hannes Wiesent (08131 &#8211; 15485Â oderÂ 0175 &#8211; 4440867) in Verbindung setzen.\nAn dem gewÃ¼nschten Termin wÃ¼rde dann der*den Person*en die Arbeit gezeigt werden und die entsprechenden ArbeitsgerÃ¤te bereitgestellt werden. Die Arbeiten kÃ¶nnten dann selbstÃ¤ndig erledigt werden und wir wÃ¼rden darauf achten\, dass keine weiteren Personen auf dem Platz sind. \nWir wÃ¼rden uns freuen\, wenn sich Mitglieder fÃ¼r die oben genannten Einzelarbeiten melden wÃ¼rden. Bei RÃ¼ckfragen wendet Ihr Euch auch bitte an Hannes Wiesent. \nMit sportlichen GrÃ¼ÃŸen und ein Frohes Osterfest wÃ¼nscht \nDie Vorstandschaft des TCA Hebertshausen \n
URL:http://tca-hebertshausen.de/event/fruehjahrs-arbeitsdienst-2020-2/
LOCATION:Vereinsheim TCA Hebertshausen\, Neufeldstr. 2\, Hebertshausen\, Bayern\, 85241\, Deutschland
ATTACH;FMTTYPE=image/jpeg:http://tca-hebertshausen.de/wp-content/uploads/2020/03/2020-04-Arbeitsdienst-FrÃ¼hjahr-2020-CORONA-2.jpg
END:VEVENT
END:VCALENDAR