BEGIN:VCALENDAR
VERSION:2.0
PRODID:-//TCA Hebertshausen - ECPv4.6.23//NONSGML v1.0//EN
CALSCALE:GREGORIAN
METHOD:PUBLISH
X-WR-CALNAME:TCA Hebertshausen
X-ORIGINAL-URL:http://tca-hebertshausen.de
X-WR-CALDESC:Veranstaltungen für TCA Hebertshausen
BEGIN:VEVENT
DTSTART;TZID=UTC+0:20190413T090000
DTEND;TZID=UTC+0:20190413T130000
DTSTAMP:20260425T204809
CREATED:20190324T134750Z
LAST-MODIFIED:20190509T113808Z
UID:850-1555146000-1555160400@tca-hebertshausen.de
SUMMARY:Frühjahrs-Arbeitsdienst 2019
DESCRIPTION:Frühjahrs-Arbeitsdienst 2019 \nBald startet die neue Saison. Wir können es kaum erwarten! \nDamit die Plätze rechtzeitig bespielbar sind und die Anlage für den Sommer\, das Training und die Punktspiele fit gemacht werden kann\, brauchen wir deine Unterstützung!\nDie Frühjahrs-Arbeitsdienste finden an den Samstagen 13.04.2019 und 20.04.2019 je ab 9:00 Uhr statt. \nMach mit – und spare dir mit der Arbeitsumlage bares Geld! \n* Getränke und Verpflegung werden selbstverständlich gestellt \n
URL:http://tca-hebertshausen.de/event/fruehjahrs-arbeitsdienst-2019/
LOCATION:Vereinsheim TCA Hebertshausen\, Neufeldstr. 2\, Hebertshausen\, Bayern\, 85241\, Deutschland
ATTACH;FMTTYPE=image/jpeg:http://tca-hebertshausen.de/wp-content/uploads/2019/03/2019-04-Arbeitsdienst-Frühjahr-2019.jpg
END:VEVENT
END:VCALENDAR