BEGIN:VCALENDAR
VERSION:2.0
PRODID:-//TCA Hebertshausen - ECPv4.6.23//NONSGML v1.0//EN
CALSCALE:GREGORIAN
METHOD:PUBLISH
X-WR-CALNAME:TCA Hebertshausen
X-ORIGINAL-URL:http://tca-hebertshausen.de
X-WR-CALDESC:Veranstaltungen für TCA Hebertshausen
BEGIN:VEVENT
DTSTART;VALUE=DATE:20250501
DTEND;VALUE=DATE:20250502
DTSTAMP:20260425T215016
CREATED:20250415T200126Z
LAST-MODIFIED:20250415T200126Z
UID:1781-1746057600-1746143999@tca-hebertshausen.de
SUMMARY:Fast-Learning-Tenniskurse 2025
DESCRIPTION:Fast-Learning-Tenniskurse 2025 \nRichtig Tennisspielen nach nur 10 Trainingsstunden. \nKlingt verrückt?\nDas innovative Kurskonzept von TennisPeople macht genau das möglich!\nMit FAST-LEARNING erlebst du sofortigen Spielspaß und schnelle Erfolgserlebnisse. \n Einfacher Einstieg\n Kooperative Übungsformen\n Spielend Tennis lernen \nWie kann ich mich anmelden?\nAlle Infos und den Link zur Anmeldung findest du auf der Seite der Tennisschule Zick.\n Melde dich gleich an und sichere dir deinen Kursplatz!\nGib beim Ausfüllen des Online-Anmeldeformulars einfach an\, dass du dich für Fast-Learning interessierst. Die Tennisschule Zick meldet sich dann sofort mit dem nächsten Kursangebot bei dir!\n Schläger\, Bälle und Trainingsequipment werden gestellt.\nSportschuhe (glatte Sohle!) und Sportbekleidung mitbringen! \nMuss ich Mitglied sein?\nFür die Dauer des Kurses (10 Einheiten á 60 Minuten) ist keine Vereinsmitgliedschaft erforderlich.\nDie Plätze dürfen unentgeltlich benutzt werden.\nSolltet ihr eure Leidenschaft für Tennis dabei entdecken\, freuen wir uns im Anschluss über eure Mitgliedschaft! \n >>Mitglied werden<< \nFragen?\nBei allen Fragen zum Training wendet euch jederzeit gerne an:\n Peter Zick (Tennisschule Zick Dachau)\n Email: peter@tenniszick.de\n Tel.: +49 (0) 172 57 84 321 \n
URL:http://tca-hebertshausen.de/event/fast-learning-tenniskurse-2025/
LOCATION:Vereinsheim TCA Hebertshausen\, Neufeldstr. 2\, Hebertshausen\, Bayern\, 85241\, Deutschland
ATTACH;FMTTYPE=image/jpeg:http://tca-hebertshausen.de/wp-content/uploads/2025/04/2025-05-Fast-Learning-2025.jpg
END:VEVENT
END:VCALENDAR