BEGIN:VCALENDAR
VERSION:2.0
PRODID:-//TCA Hebertshausen - ECPv4.6.23//NONSGML v1.0//EN
CALSCALE:GREGORIAN
METHOD:PUBLISH
X-WR-CALNAME:TCA Hebertshausen
X-ORIGINAL-URL:http://tca-hebertshausen.de
X-WR-CALDESC:Veranstaltungen für TCA Hebertshausen
BEGIN:VEVENT
DTSTART;VALUE=DATE:20250501
DTEND;VALUE=DATE:20250502
DTSTAMP:20260425T231033
CREATED:20250415T201304Z
LAST-MODIFIED:20250415T201304Z
UID:1796-1746057600-1746143999@tca-hebertshausen.de
SUMMARY:Familien-Tennis 2025
DESCRIPTION:Familien-Tennis 2025 \nDer TCA Hebertshausen ist der Tennisverein für die ganze Familie.\nFamilienförderung war für uns schon immer ein ❤️-Thema .\nDas zeigen wir neben unseren finanziellen Erleichterungen für Familien (Beitragsordnung) auch mit unseren Eltern-Kind-Trainingsangeboten. \n Quality-Familien-Zeit\n Gemeinsame Aktivität\n Kooperative Übungsformen \nWie kann ich meine Familie anmelden?\nAlle Infos und den Link zur Anmeldung findet ihr auf der Seite der Tennisschule Zick.\n Meldet euch gleich an und sichert euch euren Kursplatz!\nGebt beim Ausfüllen des Online-Anmeldeformulars einfach an\, dass ihr euch für Familien-Tennis interessierst. Die Tennisschule Zick meldet sich dann sofort mit dem nächsten Kursangebot bei euch!\nEgal ob Anfänger*innen oder erfahrene Tennisspieler*innen &#8211; wir finden die richtige Trainingsgruppe für euch!\n Schläger\, Bälle und Trainingsequipment werden gestellt.\nSportschuhe (glatte Sohle!) und Sportbekleidung mitbringen! \nMuss ich Mitglied sein?\nFür die Dauer des Kurses (10 Einheiten á 60 Minuten) ist keine Vereinsmitgliedschaft erforderlich.\nDie Plätze dürfen unentgeltlich benutzt werden.\nSolltet ihr eure Leidenschaft für Tennis dabei entdecken\, freuen wir uns im Anschluss über eure Mitgliedschaft! \n >>Mitglied werden<< \nFragen?\nBei allen Fragen zum Training wendet euch jederzeit gerne an:\n Peter Zick (Tennisschule Zick Dachau)\n Email: peter@tenniszick.de\n Tel.: +49 (0) 172 57 84 321 \n
URL:http://tca-hebertshausen.de/event/familien-tennis-2025/
LOCATION:Vereinsheim TCA Hebertshausen\, Neufeldstr. 2\, Hebertshausen\, Bayern\, 85241\, Deutschland
ATTACH;FMTTYPE=image/jpeg:http://tca-hebertshausen.de/wp-content/uploads/2025/04/2025-05-Familien-Tennis-2025.jpg
END:VEVENT
END:VCALENDAR