BEGIN:VCALENDAR
VERSION:2.0
PRODID:-//TCA Hebertshausen - ECPv4.6.23//NONSGML v1.0//EN
CALSCALE:GREGORIAN
METHOD:PUBLISH
X-WR-CALNAME:TCA Hebertshausen
X-ORIGINAL-URL:http://tca-hebertshausen.de
X-WR-CALDESC:Veranstaltungen für TCA Hebertshausen
BEGIN:VEVENT
DTSTART;TZID=UTC+0:20251018T090000
DTEND;TZID=UTC+0:20251018T130000
DTSTAMP:20260425T161248
CREATED:20251028T090302Z
LAST-MODIFIED:20251028T090302Z
UID:1850-1760778000-1760792400@tca-hebertshausen.de
SUMMARY:Arbeitsdienst im Herbst 2025
DESCRIPTION:Arbeitsdienst im Herbst 2025 \n\n\n\n\n\n\n Unterstütze deinen Verein\n Spare dir bares Geld\n Fühl dich gut\n\n\n\n\n\n\n\nLiebe Mitglieder\, \ndie Tennissaison 2025 geht zu Ende.\nHelft uns dabei\, die Plätze und die Anlage winterfest zu machen. \n An den Samstagen 18. & 25. Oktober 2025\n Jeweils von 9:00 bis 13:00 Uhr\n \nÜber die Arbeitsumlage spart ihr euch dabei bares Geld. \nUnser Platzwart Markus freut sich auf euch und bedankt sich für eure Unterstützung! \n \nFRAGEN?\n‍ Wolfgang Schmid (1. Vorsitzender)\n wolfgang.schmid@tca-hebertshausen.de\n 0 81 31 &#8211; 2 63 53 \n
URL:http://tca-hebertshausen.de/event/arbeitsdienst-im-herbst-2025/
LOCATION:Vereinsheim TCA Hebertshausen\, Neufeldstr. 2\, Hebertshausen\, Bayern\, 85241\, Deutschland
ATTACH;FMTTYPE=image/jpeg:http://tca-hebertshausen.de/wp-content/uploads/2025/10/2025-10-Arbeitsdienst-Herbst-2025.jpg
END:VEVENT
END:VCALENDAR