BEGIN:VCALENDAR
VERSION:2.0
PRODID:-//TCA Hebertshausen - ECPv4.6.23//NONSGML v1.0//EN
CALSCALE:GREGORIAN
METHOD:PUBLISH
X-WR-CALNAME:TCA Hebertshausen
X-ORIGINAL-URL:http://tca-hebertshausen.de
X-WR-CALDESC:Veranstaltungen für TCA Hebertshausen
BEGIN:VEVENT
DTSTART;TZID=UTC+0:20181027T090000
DTEND;TZID=UTC+0:20181027T130000
DTSTAMP:20260425T221652
CREATED:20181102T144820Z
LAST-MODIFIED:20181102T144820Z
UID:771-1540630800-1540645200@tca-hebertshausen.de
SUMMARY:Arbeitsdienst im Herbst
DESCRIPTION:Herbst-Arbeitsdienst 2018 \nEine weitere spannende Saison beim TCA geht zu Ende.\nNun brauchen wir deine Hilfe\, um die Anlage winterfest zu machen.\nDie Herbst-Arbeitsdienste finden an den Samstagen 20.10.2018 und 27.10.2018 je ab 9:00 Uhr statt.\nMach mit – und spare dir mit der Arbeitsumlage bares Geld! \n
URL:http://tca-hebertshausen.de/event/arbeitsdienst-im-herbst-2/
ATTACH;FMTTYPE=image/jpeg:http://tca-hebertshausen.de/wp-content/uploads/2018/09/2018-10-Arbeitsdienst-Herbst-2018.jpg
END:VEVENT
END:VCALENDAR