BEGIN:VCALENDAR
VERSION:2.0
PRODID:-//TCA Hebertshausen - ECPv4.6.23//NONSGML v1.0//EN
CALSCALE:GREGORIAN
METHOD:PUBLISH
X-WR-CALNAME:TCA Hebertshausen
X-ORIGINAL-URL:http://tca-hebertshausen.de
X-WR-CALDESC:Veranstaltungen für TCA Hebertshausen
BEGIN:VEVENT
DTSTART;TZID=UTC+0:20240413T090000
DTEND;TZID=UTC+0:20240413T130000
DTSTAMP:20260426T032529
CREATED:20240315T221910Z
LAST-MODIFIED:20240315T221910Z
UID:1683-1712998800-1713013200@tca-hebertshausen.de
SUMMARY:Arbeitsdienst Frühjahr 2024
DESCRIPTION:Arbeitsdienst im Frühjahr 2024 \n\n\n\n\n\n\nLiebe Mitglieder\,\n\n\n\n\n\n\ndie neue Saison steht vor der Tür.\nHelft uns dabei\, die Plätze und die Anlage bereit für den Spielbetrieb zu machen. \n An den Samstagen 13. & 20. April 2024\n Jeweils von 9:00 bis 13:00 Uhr\n \nÜber die Arbeitsumlage spart ihr euch dabei bares Geld. \n Unterstütze deinen Verein\n Spare dir bares Geld\n Fühl dich gut\nUnser Platzwart Markus freut sich auf euch und bedankt sich für eure Unterstützung! \n \nFRAGEN?\n‍ Wolfgang Schmid (1. Vorsitzender)\n wolfgang.schmid@tca-hebertshausen.de\n 0 81 31 &#8211; 2 63 53 \n
URL:http://tca-hebertshausen.de/event/arbeitsdienst-fruehjahr-2024/
LOCATION:Vereinsheim TCA Hebertshausen\, Neufeldstr. 2\, Hebertshausen\, Bayern\, 85241\, Deutschland
ATTACH;FMTTYPE=image/jpeg:http://tca-hebertshausen.de/wp-content/uploads/2024/03/2024-04-Arbeitsdienst-Frühjahr-2024.jpg
END:VEVENT
END:VCALENDAR